BEGIN:VCALENDAR
VERSION:2.0
PRODID:-//Ta neste steg - ECPv6.15.20//NONSGML v1.0//EN
CALSCALE:GREGORIAN
METHOD:PUBLISH
X-WR-CALNAME:Ta neste steg
X-ORIGINAL-URL:https://tanestesteg.no
X-WR-CALDESC:Arrangement for Ta neste steg
REFRESH-INTERVAL;VALUE=DURATION:PT1H
X-Robots-Tag:noindex
X-PUBLISHED-TTL:PT1H
BEGIN:VTIMEZONE
TZID:Europe/Oslo
BEGIN:DAYLIGHT
TZOFFSETFROM:+0100
TZOFFSETTO:+0200
TZNAME:CEST
DTSTART:20250330T010000
END:DAYLIGHT
BEGIN:STANDARD
TZOFFSETFROM:+0200
TZOFFSETTO:+0100
TZNAME:CET
DTSTART:20251026T010000
END:STANDARD
BEGIN:DAYLIGHT
TZOFFSETFROM:+0100
TZOFFSETTO:+0200
TZNAME:CEST
DTSTART:20260329T010000
END:DAYLIGHT
BEGIN:STANDARD
TZOFFSETFROM:+0200
TZOFFSETTO:+0100
TZNAME:CET
DTSTART:20261025T010000
END:STANDARD
BEGIN:DAYLIGHT
TZOFFSETFROM:+0100
TZOFFSETTO:+0200
TZNAME:CEST
DTSTART:20270328T010000
END:DAYLIGHT
BEGIN:STANDARD
TZOFFSETFROM:+0200
TZOFFSETTO:+0100
TZNAME:CET
DTSTART:20271031T010000
END:STANDARD
BEGIN:DAYLIGHT
TZOFFSETFROM:+0100
TZOFFSETTO:+0200
TZNAME:CEST
DTSTART:20280326T010000
END:DAYLIGHT
BEGIN:STANDARD
TZOFFSETFROM:+0200
TZOFFSETTO:+0100
TZNAME:CET
DTSTART:20281029T010000
END:STANDARD
END:VTIMEZONE
BEGIN:VEVENT
DTSTART;TZID=Europe/Oslo:20260612T160000
DTEND;TZID=Europe/Oslo:20260614T160000
DTSTAMP:20260421T143952
CREATED:20250506T102443Z
LAST-MODIFIED:20260420T143943Z
UID:595-1781280000-1781452800@tanestesteg.no
SUMMARY:Ta neste steg - Personlig og profesjonell utvikling
DESCRIPTION:Mange kjenner at de står litt fast. De har ambisjoner\, ideer eller et ønske om endring\, men får det ikke helt til å skje i praksis. Ofte handler det ikke om vilje – men om retning\, bevissthet og konkrete verktøy. \n«Ta neste steg» er et praktisk og personlig utviklingsprogram som hjelper deg å se klarere\, prioritere riktig og faktisk komme i gang med det som betyr noe. Du jobber med egne mål\, egne valg og hva som skal til for å skape ønsket utvikling – både i jobb og i livet ellers. \nGjennom en kombinasjon av refleksjon\, enkle modeller og konkrete oppgaver får du innsikt i hva som driver deg\, hva som holder deg tilbake\, og hvordan du kan ta styring over egen retning. \nDette er ikke et kurs du bare deltar på – det er et kurs som setter i gang noe. \nFrist for påmelding er senest 3. juni.
URL:https://tanestesteg.no/event/ta-neste-steg-2/
LOCATION:Skånevik fjordhotell\, Strondavegen 2695\, Skånevik\, 5593\, Norway
ATTACH;FMTTYPE=image/jpeg:https://tanestesteg.no/wp-content/uploads/2025/05/poster-1.jpg
ORGANIZER;CN="Ta neste steg":MAILTO:oyvind@kgl.no
END:VEVENT
BEGIN:VEVENT
DTSTART;TZID=Europe/Oslo:20260819T120000
DTEND;TZID=Europe/Oslo:20260820T130000
DTSTAMP:20260421T143952
CREATED:20250506T102443Z
LAST-MODIFIED:20260420T160230Z
UID:609-1787140800-1787230800@tanestesteg.no
SUMMARY:Ta neste steg - Fra leder til lagbygger
DESCRIPTION:Her kan du melde deg på.  Frist for påmelding er senest 10. august. \nFra leder til lagbygger\nLunsj-til-lunsj samling for deg som vil skape et mer engasjert og høytytende team\nHva skiller ledere som bare får jobben gjort – fra de som bygger team som presterer\, trives og utvikler seg over tid? \nPå dette intensive lunsj-til-lunsj kurset lærer du hvordan du går fra å lede oppgaver til å lede mennesker. Du får konkrete verktøy for å skape engasjement\, eierskap og bedre samarbeid i teamet ditt – og dermed også høyere produktivitet og bedre resultater. \nMange ansatte går på jobb for å “gjøre det de må”. De beste teamene derimot\, møter opp med energi\, ansvarsfølelse og vilje til å bidra. Forskjellen ligger i lederskapet. \nDette kurset gir deg innsikten og metodene du trenger for å skape den forskjellen. \nHvorfor bli med? (What’s in it for me)\nSom leder får du: \n\nØkt engasjement i teamet ditt – medarbeidere som faktisk bryr seg\nBedre samarbeid og sterkere lagfølelse\nHøyere produktivitet uten økt press\nLavere turnover og mer lojale ansatte\nKonkrete verktøy du kan ta i bruk umiddelbart\nInnsikt i hva forskning (bl.a. Gallup) sier om hva som faktisk driver engasjement\n\nKort sagt: Du får et team som leverer bedre – fordi de vil\, ikke fordi de må. \nFor hvem?\nDette kurset er for deg som: \n\nHar personalansvar eller leder et team\nØnsker mer engasjement og eierskap i avdelingen din\nOpplever at medarbeidere “gjør jobben”\, men ikke mer enn det\nVil utvikle deg fra å være en styrende leder til en samlende lagbygger\nEr opptatt av resultater – men også av mennesker\n\nHva lærer du?\nDu får innsikt i og jobber konkret med: \n\nHva som faktisk skaper engasjement på arbeidsplassen\nHvordan du går fra leder til lagbygger\nHvordan bygge en kultur for eierskap og ansvar\nHva som kjennetegner high-performing team\nHvordan små grep i din lederstil gir stor effekt\nHvordan du får medarbeidere til å ville bidra mer\n\nFormat\n\nLunsj dag 1 → lunsj dag 2\nPraktisk\, konkret og relevant for din lederhverdag\nErfaringsdeling og refleksjon sammen med andre ledere\n\n\nDette er ikke et kurs om teori – det er et kurs for deg som vil skape reell endring i hvordan teamet ditt fungerer. \n 
URL:https://tanestesteg.no/event/ta-neste-steg-3/
LOCATION:Skånevik fjordhotell\, Strondavegen 2695\, Skånevik\, 5593\, Norway
ATTACH;FMTTYPE=image/jpeg:https://tanestesteg.no/wp-content/uploads/2025/05/Fra-leder-til-lagbygger.jpg
ORGANIZER;CN="Ta neste steg":MAILTO:oyvind@kgl.no
END:VEVENT
BEGIN:VEVENT
DTSTART;VALUE=DATE:20270501
DTEND;VALUE=DATE:20270601
DTSTAMP:20260421T143952
CREATED:20250506T102443Z
LAST-MODIFIED:20260420T153053Z
UID:622-1809129600-1811807999@tanestesteg.no
SUMMARY:Ta neste steg - En varm og kulturell reise til personlig og profesjonell utvikling
DESCRIPTION:Meld din interesse!  5 dagers samling i Sør-Europa\, 5 dager i mai.  Påmelding er ikke bindende. \nHva skjer når du gir deg selv tid\, rom og avstand til å faktisk stoppe opp – og gå i dybden? \nI en travel hverdag blir utvikling ofte noe vi “skal ta senere”. Vi rekker å reflektere litt\, justere litt – men sjelden nok til å skape reell endring. Denne samlingen er laget for deg som vil mer enn små justeringer. \nOver fem dager i varme og inspirerende omgivelser i Sør-Europa jobber du med både personlig og profesjonell utvikling – i et tempo som gir rom for innsikt\, refleksjon og nye perspektiver. Her kombineres faglig påfyll med gode samtaler\, lokal kultur\, mat og vin. \nDette er ikke bare et kurs – det er en opplevelse som gir deg klarhet\, retning og ny energi. \n  \n \nHvorfor bli med? (What’s in it for me) \n\nTid og rom til å tenke større og dypere enn i hverdagen\nKlarhet i hva du vil – og hva som faktisk er viktig for deg\nNye perspektiver på egne valg\, mønstre og prioriteringer\nPåfyll av energi\, motivasjon og retning\nUtvikling som varer – både personlig og profesjonelt\nSterke samtaler og relasjoner med andre deltakere\nEn unik kombinasjon av utvikling\, kultur og gode opplevelser\n\nKort sagt: Du reiser hjem med mer enn minner – du reiser hjem med retning. \nFor hvem? \nDette opplegget passer for deg som: \n\nØnsker personlig utvikling med mer dybde og refleksjon\nVil kombinere utvikling med gode opplevelser i vakre omgivelser\nHar deltatt på «Ta neste steg» tidligere – og ønsker å gå videre\nEller er ny\, men kjenner at du vil starte med noe mer omfattende\nØnsker å utvikle både deg selv og din rolle i arbeidslivet\n\nHva jobber vi med? \n\nDine verdier\, drivkrefter og retning videre\nHva som holder deg tilbake – og hvordan du bryter mønstre\nBevisste valg i både jobb og liv\nHvordan skape balanse mellom prestasjon og mening\nHvordan bruke egne styrker mer aktivt\nSamspillet mellom personlig og profesjonell utvikling\n\nFormat \n\n5 dager i Sør-Europa\nVeksling mellom faglige økter\, refleksjon og opplevelser\nTid til både fellesskap og egne prosesser\nSosiale rammer med lokal mat\, vin og kultur\n\nKort oppsummert \nDette er for deg som ikke bare vil ta neste steg – men forstå hvorfor\, hvor du skal\, og hvordan du faktisk kommer dit.
URL:https://tanestesteg.no/event/ta-neste-steg-en-varm-og-kulturell-reise-til-personlig-og-profesjonell-utvikling/
LOCATION:Sør-Europa\, Italy
ATTACH;FMTTYPE=image/jpeg:https://tanestesteg.no/wp-content/uploads/2025/05/Sor-Europa.jpg
ORGANIZER;CN="Ta neste steg":MAILTO:oyvind@kgl.no
END:VEVENT
END:VCALENDAR